BEGIN:VCALENDAR
VERSION:2.0
PRODID:-//Squarespace Inc/Squarespace 6//v6//EN
BEGIN:VEVENT
UID:5a700372419202410e7e6d2f@squarespace.com
DTSTAMP:20180207T051558Z
DTSTART:20180505T050000Z
DTEND:20180505T080000Z
SUMMARY:Shibori Workshop Saturday 5th May\, Margaret River
GEO:-33.955;115.075
LOCATION:Margaret River\, Margaret River\, WA\, Australia
END:VEVENT
END:VCALENDAR
