BEGIN:VCALENDAR
VERSION:2.0
PRODID:-//Squarespace Inc/Squarespace 6//v6//EN
BEGIN:VEVENT
UID:5c613c040d929794cf5fd787@squarespace.com
DTSTAMP:20190604T064911Z
DTSTART:20191123T050000Z
DTEND:20191123T080000Z
SUMMARY:Shibori Workshop Saturday 23rd November 2019\, Scarborough
GEO:-31.894008;115.764997
LOCATION:The Art Space Collective\, 80A Scarborough Beach Road\, Scarboroug
 h\, WA\, 6019\, Australia
END:VEVENT
END:VCALENDAR
