BEGIN:VCALENDAR
VERSION:2.0
PRODID:-//Squarespace Inc/Squarespace 6//v6//EN
BEGIN:VEVENT
UID:5cf614985f0c40000181a0b5@squarespace.com
DTSTAMP:20190611T041143Z
DTSTART:20190615T020000Z
DTEND:20190615T050000Z
SUMMARY:Shibori Workshop Saturday 15th June 2019\, Mullewa
GEO:-28.539555;115.513256
LOCATION:Mullewa\, Mullewa\, WA\, 6630\, Australia
END:VEVENT
END:VCALENDAR
