BEGIN:VCALENDAR
VERSION:2.0
PRODID:-//Squarespace Inc/Squarespace 6//v6//EN
BEGIN:VEVENT
UID:5bf2730ef950b7299bbba69f@squarespace.com
DTSTAMP:20190604T064959Z
DTSTART:20190622T050000Z
DTEND:20190622T080000Z
SUMMARY:Shibori Workshop Saturday 22nd June 2019\, Scarborough
GEO:-31.894008;115.764997
LOCATION:The Art Space Collective\, 80A Scarborough Beach Road\, Scarboroug
 h\, WA\, 6019\, Australia
END:VEVENT
END:VCALENDAR
