BEGIN:VCALENDAR
VERSION:2.0
PRODID:-//Squarespace Inc/Squarespace 6//v6//EN
BEGIN:VEVENT
UID:5bcd59464785d3d9aac9ab73@squarespace.com
DTSTAMP:20181022T050315Z
DTSTART:20181103T050000Z
DTEND:20181103T080000Z
SUMMARY:Shibori Workshop Saturday 3rd November\, Scarborough
GEO:-31.894008;115.764997
LOCATION:The Art Space Collective\, 80A Scarborough Beach Road\, Scarboroug
 h\, WA\, 6019\, Australia
END:VEVENT
END:VCALENDAR
