BEGIN:VCALENDAR
VERSION:2.0
PRODID:-//Squarespace Inc/Squarespace 6//v6//EN
BEGIN:VEVENT
UID:5a939429ec212d9451fd3acd@squarespace.com
DTSTAMP:20181022T045949Z
DTSTART:20180728T050000Z
DTEND:20180728T080000Z
SUMMARY:Shibori Workshop Saturday 28rd July\, Scarborough
GEO:-31.894008;115.764997
LOCATION:The Art Space Collective\, 80A Scarborough Beach Road\, Scarboroug
 h\, WA\, 6019\, Australia
END:VEVENT
END:VCALENDAR
